BEGIN:VCALENDAR
VERSION:2.0
PRODID:-//Franklin Palais - ECPv5.3.2.1//NONSGML v1.0//EN
CALSCALE:GREGORIAN
METHOD:PUBLISH
X-WR-CALNAME:Franklin Palais
X-ORIGINAL-URL:https://franklinpalais.com.au
X-WR-CALDESC:Events for Franklin Palais
BEGIN:VTIMEZONE
TZID:Australia/Hobart
BEGIN:STANDARD
TZOFFSETFROM:+1100
TZOFFSETTO:+1000
TZNAME:AEST
DTSTART:20210403T160000
END:STANDARD
BEGIN:DAYLIGHT
TZOFFSETFROM:+1000
TZOFFSETTO:+1100
TZNAME:AEDT
DTSTART:20211002T160000
END:DAYLIGHT
BEGIN:STANDARD
TZOFFSETFROM:+1100
TZOFFSETTO:+1000
TZNAME:AEST
DTSTART:20220402T160000
END:STANDARD
BEGIN:DAYLIGHT
TZOFFSETFROM:+1000
TZOFFSETTO:+1100
TZNAME:AEDT
DTSTART:20221001T160000
END:DAYLIGHT
BEGIN:STANDARD
TZOFFSETFROM:+1100
TZOFFSETTO:+1000
TZNAME:AEST
DTSTART:20230401T160000
END:STANDARD
BEGIN:DAYLIGHT
TZOFFSETFROM:+1000
TZOFFSETTO:+1100
TZNAME:AEDT
DTSTART:20230930T160000
END:DAYLIGHT
END:VTIMEZONE
BEGIN:VEVENT
DTSTART;TZID=Australia/Hobart:20230129T100000
DTEND;TZID=Australia/Hobart:20230129T140000
DTSTAMP:20210223T234419
CREATED:20190228T002458Z
LAST-MODIFIED:20210203T045509Z
UID:5530-1674986400-1675000800@franklinpalais.com.au
SUMMARY:The Market @ Franklin
DESCRIPTION:Last Sunday of the month at the historic Franklin Palais theatre\, 10am – 2pm all year round – selling fresh local produce\, food\, plants and crafts from the Huon Valley. Breakfast\, refreshments and great coffee available. For any queries regarding the market\, please call Natalie on 0400 297 291 \n 
URL:https://franklinpalais.com.au/event/the-market-franklin-2-2023-01-29/
LOCATION:Franklin Palais
CATEGORIES:Events
ATTACH;FMTTYPE=image/jpeg:https://franklinpalais.com.au/wp-content/uploads/2017/05/Market4_wp.jpg
END:VEVENT
BEGIN:VEVENT
DTSTART;TZID=Australia/Hobart:20230101T160000
DTEND;TZID=Australia/Hobart:20230101T213000
DTSTAMP:20210223T234419
CREATED:20210124T011544Z
LAST-MODIFIED:20210124T011544Z
UID:5519-1672588800-1672608600@franklinpalais.com.au
SUMMARY:Classic Movie
DESCRIPTION:Starts at 7:15pm
URL:https://franklinpalais.com.au/event/classic-movie-2-2021-03-07/2023-01-01/
LOCATION:Franklin Palais
CATEGORIES:Classic Movies,Events
ATTACH;FMTTYPE=image/jpeg:https://franklinpalais.com.au/wp-content/uploads/2018/12/11952617_ml.jpg
END:VEVENT
BEGIN:VEVENT
DTSTART;TZID=Australia/Hobart:20221225T100000
DTEND;TZID=Australia/Hobart:20221225T140000
DTSTAMP:20210223T234419
CREATED:20190228T002458Z
LAST-MODIFIED:20190228T002458Z
UID:5353-1671962400-1671976800@franklinpalais.com.au
SUMMARY:The Market @ Franklin
DESCRIPTION:Last Sunday of the month at the historic Franklin Palais theatre\, 10am – 2pm all year round – selling fresh local produce\, food\, plants and crafts from the Huon Valley. Breakfast\, refreshments and great coffee available. For any queries regarding the market\, please call Natalie on 0400 297 291 \n 
URL:https://franklinpalais.com.au/event/the-market-franklin-2/2022-12-25/
LOCATION:Franklin Palais
CATEGORIES:Events
ATTACH;FMTTYPE=image/jpeg:https://franklinpalais.com.au/wp-content/uploads/2017/05/Market4_wp.jpg
END:VEVENT
BEGIN:VEVENT
DTSTART;TZID=Australia/Hobart:20211215T190000
DTEND;TZID=Australia/Hobart:20211215T210000
DTSTAMP:20210223T234419
CREATED:20210109T044107Z
LAST-MODIFIED:20210109T044225Z
UID:5418-1639594800-1639602000@franklinpalais.com.au
SUMMARY:Little Boat Choir
DESCRIPTION:The Little Boat Choir led by award winning Folk Singer-Songwriter Tiffany Eckhardt meets from 7pm for a cuppa and a chat\, then from 730pm we warm up and sing. All welcome! No prior singing experience needed. \n$10 per session
URL:https://franklinpalais.com.au/event/little-boat-choir-7/2021-12-15/
LOCATION:The Palais Main Hall\, 3388 Huon Hwy\, Franklin\, TAS\, 7113\, Australia
ATTACH;FMTTYPE=image/jpeg:https://franklinpalais.com.au/wp-content/uploads/2021/01/127225892_10158672164859788_6565259447585935058_o.jpg
GEO:-43.0890989;147.0109296
X-APPLE-STRUCTURED-LOCATION;VALUE=URI;X-ADDRESS=The Palais Main Hall 3388 Huon Hwy Franklin TAS 7113 Australia;X-APPLE-RADIUS=500;X-TITLE=3388 Huon Hwy:geo:147.0109296,-43.0890989
END:VEVENT
BEGIN:VEVENT
DTSTART;TZID=Australia/Hobart:20211120T190000
DTEND;TZID=Australia/Hobart:20211120T210000
DTSTAMP:20210223T234419
CREATED:20201205T012629Z
LAST-MODIFIED:20210203T050513Z
UID:5351-1637434800-1637442000@franklinpalais.com.au
SUMMARY:Franklin Folk Club
DESCRIPTION:
URL:https://franklinpalais.com.au/event/franklin-folk-club-2021-03-20/2021-11-20/
LOCATION:The Palais Main Hall\, 3388 Huon Hwy\, Franklin\, TAS\, 7113\, Australia
ATTACH;FMTTYPE=image/jpeg:https://franklinpalais.com.au/wp-content/uploads/2020/12/Anne-and-Tiff.jpg
GEO:-43.0890989;147.0109296
X-APPLE-STRUCTURED-LOCATION;VALUE=URI;X-ADDRESS=The Palais Main Hall 3388 Huon Hwy Franklin TAS 7113 Australia;X-APPLE-RADIUS=500;X-TITLE=3388 Huon Hwy:geo:147.0109296,-43.0890989
END:VEVENT
BEGIN:VEVENT
DTSTART;TZID=Australia/Hobart:20210922T190000
DTEND;TZID=Australia/Hobart:20210922T210000
DTSTAMP:20210223T234419
CREATED:20210109T043818Z
LAST-MODIFIED:20210109T043818Z
UID:5407-1632337200-1632344400@franklinpalais.com.au
SUMMARY:Little Boat Choir
DESCRIPTION:The Little Boat Choir led by award winning Folk Singer-Songwriter Tiffany Eckhardt meets from 7pm for a cuppa and a chat\, then from 730pm we warm up and sing. All welcome! No prior singing experience needed.
URL:https://franklinpalais.com.au/event/little-boat-choir-6/2021-09-22/
LOCATION:The Palais Main Hall\, 3388 Huon Hwy\, Franklin\, TAS\, 7113\, Australia
ATTACH;FMTTYPE=image/jpeg:https://franklinpalais.com.au/wp-content/uploads/2021/01/127225892_10158672164859788_6565259447585935058_o.jpg
GEO:-43.0890989;147.0109296
X-APPLE-STRUCTURED-LOCATION;VALUE=URI;X-ADDRESS=The Palais Main Hall 3388 Huon Hwy Franklin TAS 7113 Australia;X-APPLE-RADIUS=500;X-TITLE=3388 Huon Hwy:geo:147.0109296,-43.0890989
END:VEVENT
BEGIN:VEVENT
DTSTART;TZID=Australia/Hobart:20210703T183000
DTEND;TZID=Australia/Hobart:20210703T233000
DTSTAMP:20210223T234419
CREATED:20200603T022527Z
LAST-MODIFIED:20200603T022527Z
UID:4851-1625337000-1625355000@franklinpalais.com.au
SUMMARY:Christmas in July
DESCRIPTION:
URL:https://franklinpalais.com.au/event/christmas-in-july/
LOCATION:The Palais Main Hall\, 3388 Huon Hwy\, Franklin\, TAS\, 7113\, Australia
GEO:-43.0890989;147.0109296
X-APPLE-STRUCTURED-LOCATION;VALUE=URI;X-ADDRESS=The Palais Main Hall 3388 Huon Hwy Franklin TAS 7113 Australia;X-APPLE-RADIUS=500;X-TITLE=3388 Huon Hwy:geo:147.0109296,-43.0890989
END:VEVENT
BEGIN:VEVENT
DTSTART;TZID=Australia/Hobart:20210630T190000
DTEND;TZID=Australia/Hobart:20210630T210000
DTSTAMP:20210223T234419
CREATED:20210109T043522Z
LAST-MODIFIED:20210109T050649Z
UID:5396-1625079600-1625086800@franklinpalais.com.au
SUMMARY:Little Boat Choir
DESCRIPTION:The Little Boat Choir led by award winning Folk Singer-Songwriter Tiffany Eckhardt meets from 7pm for a cuppa and a chat\, then from 730pm we warm up and sing. All welcome! No prior singing experience needed. \n  \n$10 per session
URL:https://franklinpalais.com.au/event/little-boat-choir-5/2021-06-30/
LOCATION:The Palais Main Hall\, 3388 Huon Hwy\, Franklin\, TAS\, 7113\, Australia
ATTACH;FMTTYPE=image/jpeg:https://franklinpalais.com.au/wp-content/uploads/2021/01/127225892_10158672164859788_6565259447585935058_o.jpg
GEO:-43.0890989;147.0109296
X-APPLE-STRUCTURED-LOCATION;VALUE=URI;X-ADDRESS=The Palais Main Hall 3388 Huon Hwy Franklin TAS 7113 Australia;X-APPLE-RADIUS=500;X-TITLE=3388 Huon Hwy:geo:147.0109296,-43.0890989
END:VEVENT
BEGIN:VEVENT
DTSTART;TZID=Australia/Hobart:20210412T080000
DTEND;TZID=Australia/Hobart:20210412T170000
DTSTAMP:20210223T234419
CREATED:20210128T024836Z
LAST-MODIFIED:20210128T024836Z
UID:5528-1618214400-1618246800@franklinpalais.com.au
SUMMARY:PRIVATE
DESCRIPTION:
URL:https://franklinpalais.com.au/event/private/
LOCATION:The Palais Main Hall\, 3388 Huon Hwy\, Franklin\, TAS\, 7113\, Australia
GEO:-43.0890989;147.0109296
X-APPLE-STRUCTURED-LOCATION;VALUE=URI;X-ADDRESS=The Palais Main Hall 3388 Huon Hwy Franklin TAS 7113 Australia;X-APPLE-RADIUS=500;X-TITLE=3388 Huon Hwy:geo:147.0109296,-43.0890989
END:VEVENT
BEGIN:VEVENT
DTSTART;TZID=Australia/Hobart:20210410T080000
DTEND;TZID=Australia/Hobart:20210411T170000
DTSTAMP:20210223T234419
CREATED:20201117T021440Z
LAST-MODIFIED:20210128T024537Z
UID:5324-1618041600-1618160400@franklinpalais.com.au
SUMMARY:The Maritime Trail: Wooden Boat Festival
DESCRIPTION:The Maritime Trail.\nBrought to you by The Wooden Boat Festival.
URL:https://franklinpalais.com.au/event/the-maritime-trail-wooden-boat-festial/
LOCATION:The Palais Main Hall\, 3388 Huon Hwy\, Franklin\, TAS\, 7113\, Australia
GEO:-43.0890989;147.0109296
X-APPLE-STRUCTURED-LOCATION;VALUE=URI;X-ADDRESS=The Palais Main Hall 3388 Huon Hwy Franklin TAS 7113 Australia;X-APPLE-RADIUS=500;X-TITLE=3388 Huon Hwy:geo:147.0109296,-43.0890989
END:VEVENT
BEGIN:VEVENT
DTSTART;TZID=Australia/Hobart:20210409T180000
DTEND;TZID=Australia/Hobart:20210409T220000
DTSTAMP:20210223T234419
CREATED:20200811T013900Z
LAST-MODIFIED:20201117T023314Z
UID:4902-1617991200-1618005600@franklinpalais.com.au
SUMMARY:Daniel Champagne
DESCRIPTION:The young virtuoso recently described as ‘the finest guitar player of this generation’ brings his world tour back home with new music including a Franklin show April 9 2020 at The Palais Theatre!\nTickets just $20 here: https://www.eventbrite.com.au/e/franklin-daniel-champagne-2020-world-tour-the-palais-theatre-tickets-91273331993 don’t miss out\, these shows have been selling out all over the world!\n\nWHAT THE PRESS SAY..\n“The word Prodigy seems to entirely fall short of this soft-spoken young man’s skills\, he coaxes sounds and melodies out of his instrument that literally drop jaws.” The Calgary Herald\, CANADA\n“Today I saw the future of Folk – Festival goers flocking in the thousands towards the main stage to witness a young musical phenomenon from Australia dish out an absolute show-stopper.” The Firefly Column\, USA\n“Daniel Champagne is a crossroads. Fusing the strong traditions of Blues\, Folk and other roots art with pop showmanship and admirable lyrical ability. I firmly believe that he will become an ambassador for roots music in a time where it desperately needs representation.” The Indie Blender\, CANADA\n“reinventing roots guitar” Rhythms Magazine\, AUSTRALIA\n“Watching Daniel Champagne perform is a once in a lifetime experience. He is a true prodigy that plays like no one else could possibly play unless they spent at least two lifetimes studying the art.” BW Review\, NEW ZEALAND\n‘Daniel Champagne exudes a natural ease on stage\, as he sings poignant lyrics and beautifully crafted melodies that invariably whisk the heart up with grand romanticism. Coupled with an exhilarating guitar talent that transcends mere acoustic playing to replicate a whole band\, Champagne is just magical’ Themusic.com.au\, AUSTRALIA
URL:https://franklinpalais.com.au/event/daniel-champagne/
LOCATION:The Palais Main Hall\, 3388 Huon Hwy\, Franklin\, TAS\, 7113\, Australia
ATTACH;FMTTYPE=image/jpeg:https://franklinpalais.com.au/wp-content/uploads/2020/08/Daniel-Champagne-Tour-Poster.jpg
GEO:-43.0890989;147.0109296
X-APPLE-STRUCTURED-LOCATION;VALUE=URI;X-ADDRESS=The Palais Main Hall 3388 Huon Hwy Franklin TAS 7113 Australia;X-APPLE-RADIUS=500;X-TITLE=3388 Huon Hwy:geo:147.0109296,-43.0890989
END:VEVENT
BEGIN:VEVENT
DTSTART;TZID=Australia/Hobart:20210331T190000
DTEND;TZID=Australia/Hobart:20210331T210000
DTSTAMP:20210223T234419
CREATED:20210109T042119Z
LAST-MODIFIED:20210109T044450Z
UID:5370-1617217200-1617224400@franklinpalais.com.au
SUMMARY:Little Boat Choir
DESCRIPTION:The Little Boat Choir led by award winning Folk Singer-Songwriter Tiffany Eckhardt meets from 7pm for a cuppa and a chat\, then from 730pm we warm up and sing. All welcome! No prior singing experience needed. \n  \n$10 per session
URL:https://franklinpalais.com.au/event/little-boat-choir-4/2021-03-31/
LOCATION:The Palais Main Hall\, 3388 Huon Hwy\, Franklin\, TAS\, 7113\, Australia
ATTACH;FMTTYPE=image/jpeg:https://franklinpalais.com.au/wp-content/uploads/2021/01/127225892_10158672164859788_6565259447585935058_o.jpg
GEO:-43.0890989;147.0109296
X-APPLE-STRUCTURED-LOCATION;VALUE=URI;X-ADDRESS=The Palais Main Hall 3388 Huon Hwy Franklin TAS 7113 Australia;X-APPLE-RADIUS=500;X-TITLE=3388 Huon Hwy:geo:147.0109296,-43.0890989
END:VEVENT
BEGIN:VEVENT
DTSTART;TZID=Australia/Hobart:20210321T183000
DTEND;TZID=Australia/Hobart:20210321T203000
DTSTAMP:20210223T234419
CREATED:20210203T051647Z
LAST-MODIFIED:20210203T051647Z
UID:5534-1616351400-1616358600@franklinpalais.com.au
SUMMARY:MOVIE:Seriously Series - Road to Ruin
DESCRIPTION:Doors: 630pm\nFilm: 7pm\nBAR OPEN\nBring a plate for Supper.\n\nTrailer for the film\, Seriously Series – Road to Ruin\n\nhttps://www.youtube.com/watch?v=iQ0mqlc6qVA\nRoad to Ruin \nThe story follows the progression of the Canning Stock Route trip and its forced premature end in Newman\, with day-to-day footage\, reflective interviews and narration describing the locations and events. It show cases this very remote unique part of the world while inter twining local history\, an understanding of the environment\, while also demonstrating the teams own struggles due vehicle issues in this harsh lonely part of the world. \nThe expedition comes to an abrupt ended due to an unforeseen catastrophic issue with one of the vehicles\, turning the series from an adventure\, to a dash for survival. \nModern vehicles can be more straightforward and comfortable for travelers undertaking such a trip\, though no amount of ‘mod cons’ can replace the essential human sense of adventure\, grit\, team work and knowledge gained through experience. \nThe emphasis is on getting outside to explore and seeing Australia for what it is\, and dealing with challenges of travel as they arise. \nThe production will be broken up in to a five part series\, fifty-minute short film\, has\, and will be promoted via a number of different mediums. \nSYNOPSIS \nIn the second season of the Seriously Series franchise\, (Seriously Series- Road to Ruin)\, the team tackled the Canning Stock Route (CSR)\, one of Australia’s last frontiers as well as being the world’s longest stock route at some 2\,000kms. \nThere are no service stations or towns along the stock route\, so all provisions are carried for the complete expedition. Vehicles are comprehensibly prepared\, as all breakdowns and failures from the vehicles require fixing on the track. The environmental conditions are harsh with endless corrugations\, sharp spinifex\, dust and scorching heat exceeding 40 degrees Celsius. \nThe team of four people and two vehicles\, a 1975 Land Rover Series III and 2014 Land Rover Defender\, leave Kalgoorlie\, Western Australia\, in early September 2017\, and head to the small outback town of Wiluna to start their journey. Just north of here\, the CSR stretches up across three deserts\, and ends at the small hamlet of Halls Creek on the edge on the Kimberley. \n\n\n\n\n\n\nDiversifying the programs content\, Seriously Series delves into geology\, geography\, navigation\, local history\, vehicle maintenance and bush- mechanics. The program gives a holistic understanding of the environment in this unique part of the world\, and how to problem solve when things do not go according to plan. \nThe Land Rover Series III suffers from unforeseen mechanical issues along the stock route\, which slows progress. The team have been on the Canning for 2 weeks and are just half way along when a significant mechanical break\, forces the team to decide how to get themselves out quickly\, safely and preferably with both vehicles. \nThey back track over 200kms and exit the Canning at Georgia Bore\, heading for Newman\, with more breaks along the way and creative repairs needed to get them to their destination. The film closes in Newman.
URL:https://franklinpalais.com.au/event/movieseriously-series-road-to-ruin/
LOCATION:The Palais Main Hall\, 3388 Huon Hwy\, Franklin\, TAS\, 7113\, Australia
ATTACH;FMTTYPE=image/jpeg:https://franklinpalais.com.au/wp-content/uploads/2021/02/Road-To-Ruin-Poster-A4.jpg
GEO:-43.0890989;147.0109296
X-APPLE-STRUCTURED-LOCATION;VALUE=URI;X-ADDRESS=The Palais Main Hall 3388 Huon Hwy Franklin TAS 7113 Australia;X-APPLE-RADIUS=500;X-TITLE=3388 Huon Hwy:geo:147.0109296,-43.0890989
END:VEVENT
BEGIN:VEVENT
DTSTART;TZID=Australia/Hobart:20210311T080000
DTEND;TZID=Australia/Hobart:20210314T100000
DTSTAMP:20210223T234419
CREATED:20201117T021323Z
LAST-MODIFIED:20210120T004232Z
UID:5322-1615449600-1615716000@franklinpalais.com.au
SUMMARY:Wedding
DESCRIPTION:
URL:https://franklinpalais.com.au/event/wedding-2/
LOCATION:The Palais Main Hall\, 3388 Huon Hwy\, Franklin\, TAS\, 7113\, Australia
GEO:-43.0890989;147.0109296
X-APPLE-STRUCTURED-LOCATION;VALUE=URI;X-ADDRESS=The Palais Main Hall 3388 Huon Hwy Franklin TAS 7113 Australia;X-APPLE-RADIUS=500;X-TITLE=3388 Huon Hwy:geo:147.0109296,-43.0890989
END:VEVENT
BEGIN:VEVENT
DTSTART;TZID=Australia/Hobart:20210227T150000
DTEND;TZID=Australia/Hobart:20210227T233000
DTSTAMP:20210223T234419
CREATED:20210209T091308Z
LAST-MODIFIED:20210209T091308Z
UID:5543-1614438000-1614468600@franklinpalais.com.au
SUMMARY:Franklin Market set up
DESCRIPTION:
URL:https://franklinpalais.com.au/event/franklin-market-set-up/
LOCATION:The Palais Main Hall\, 3388 Huon Hwy\, Franklin\, TAS\, 7113\, Australia
GEO:-43.0890989;147.0109296
X-APPLE-STRUCTURED-LOCATION;VALUE=URI;X-ADDRESS=The Palais Main Hall 3388 Huon Hwy Franklin TAS 7113 Australia;X-APPLE-RADIUS=500;X-TITLE=3388 Huon Hwy:geo:147.0109296,-43.0890989
END:VEVENT
BEGIN:VEVENT
DTSTART;TZID=Australia/Hobart:20210225T093000
DTEND;TZID=Australia/Hobart:20210225T133000
DTSTAMP:20210223T234419
CREATED:20210208T075401Z
LAST-MODIFIED:20210208T075401Z
UID:5541-1614245400-1614259800@franklinpalais.com.au
SUMMARY:Private Meeting
DESCRIPTION:
URL:https://franklinpalais.com.au/event/private-meeting/
LOCATION:The Palais Main Hall\, 3388 Huon Hwy\, Franklin\, TAS\, 7113\, Australia
GEO:-43.0890989;147.0109296
X-APPLE-STRUCTURED-LOCATION;VALUE=URI;X-ADDRESS=The Palais Main Hall 3388 Huon Hwy Franklin TAS 7113 Australia;X-APPLE-RADIUS=500;X-TITLE=3388 Huon Hwy:geo:147.0109296,-43.0890989
END:VEVENT
END:VCALENDAR